Package: universalmotif Version: 1.18.1 Command: rm -rf universalmotif.buildbin-libdir && mkdir universalmotif.buildbin-libdir && F:\biocbuild\bbs-3.17-bioc\R\bin\R.exe CMD INSTALL --build --library=universalmotif.buildbin-libdir universalmotif_1.18.1.tar.gz StartedAt: 2023-10-16 09:41:38 -0400 (Mon, 16 Oct 2023) EndedAt: 2023-10-16 09:44:19 -0400 (Mon, 16 Oct 2023) EllapsedTime: 161.6 seconds RetCode: 0 Status: OK PackageFile: universalmotif_1.18.1.zip PackageFileSize: 5.802 MiB