Package: universalmotif Version: 1.18.1 Command: /Library/Frameworks/R.framework/Resources/bin/R CMD check --install=check:universalmotif.install-out.txt --library=/Library/Frameworks/R.framework/Resources/library --no-vignettes --timings universalmotif_1.18.1.tar.gz StartedAt: 2023-10-16 08:24:02 -0400 (Mon, 16 Oct 2023) EndedAt: 2023-10-16 08:30:53 -0400 (Mon, 16 Oct 2023) EllapsedTime: 410.6 seconds RetCode: 0 Status: OK CheckDir: universalmotif.Rcheck Warnings: 0