Package: universalmotif Version: 1.18.1 Command: /Library/Frameworks/R.framework/Resources/bin/R CMD build --keep-empty-dirs --no-resave-data universalmotif StartedAt: 2023-10-15 22:02:25 -0400 (Sun, 15 Oct 2023) EndedAt: 2023-10-15 22:12:46 -0400 (Sun, 15 Oct 2023) EllapsedTime: 621.3 seconds RetCode: 0 Status: OK PackageFile: universalmotif_1.18.1.tar.gz PackageFileSize: 3.544 MiB