git_url: https://git.bioconductor.org/packages/universalmotif git_branch: RELEASE_3_17 git_last_commit: 7e7936a git_last_commit_date: 2023-06-19 07:52:45 -0400 (Mon, 19 Jun 2023) Package: universalmotif Version: 1.18.1 Maintainer: Benjamin Jean-Marie Tremblay MaintainerEmail: benjamin.tremblay at uwaterloo.ca