Package: unifiedWMWqPCR Version: 1.36.0 Command: chmod a+r unifiedWMWqPCR -R && F:\biocbuild\bbs-3.17-bioc\R\bin\R.exe CMD build --keep-empty-dirs --no-resave-data unifiedWMWqPCR StartedAt: 2023-10-15 22:59:31 -0400 (Sun, 15 Oct 2023) EndedAt: 2023-10-15 22:59:53 -0400 (Sun, 15 Oct 2023) EllapsedTime: 22.0 seconds RetCode: 0 Status: OK PackageFile: unifiedWMWqPCR_1.36.0.tar.gz PackageFileSize: 502.9 KiB