Package: unifiedWMWqPCR Version: 1.36.0 Command: rm -rf unifiedWMWqPCR.buildbin-libdir && mkdir unifiedWMWqPCR.buildbin-libdir && F:\biocbuild\bbs-3.17-bioc\R\bin\R.exe CMD INSTALL --build --library=unifiedWMWqPCR.buildbin-libdir unifiedWMWqPCR_1.36.0.tar.gz StartedAt: 2023-10-16 09:41:33 -0400 (Mon, 16 Oct 2023) EndedAt: 2023-10-16 09:41:49 -0400 (Mon, 16 Oct 2023) EllapsedTime: 16.1 seconds RetCode: 0 Status: OK PackageFile: unifiedWMWqPCR_1.36.0.zip PackageFileSize: 782.8 KiB