Package: unifiedWMWqPCR Version: 1.36.0 Command: /home/biocbuild/bbs-3.17-bioc/R/bin/R CMD check --install=check:unifiedWMWqPCR.install-out.txt --library=/home/biocbuild/bbs-3.17-bioc/R/site-library --timings unifiedWMWqPCR_1.36.0.tar.gz StartedAt: 2023-10-16 01:59:19 -0400 (Mon, 16 Oct 2023) EndedAt: 2023-10-16 02:00:03 -0400 (Mon, 16 Oct 2023) EllapsedTime: 44.3 seconds RetCode: 0 Status: WARNINGS CheckDir: unifiedWMWqPCR.Rcheck Warnings: 1