Package: unifiedWMWqPCR Version: 1.36.0 Command: /home/biocbuild/bbs-3.17-bioc/R/bin/R CMD build --keep-empty-dirs --no-resave-data unifiedWMWqPCR StartedAt: 2023-10-15 18:53:07 -0400 (Sun, 15 Oct 2023) EndedAt: 2023-10-15 18:53:18 -0400 (Sun, 15 Oct 2023) EllapsedTime: 11.3 seconds RetCode: 0 Status: OK PackageFile: unifiedWMWqPCR_1.36.0.tar.gz PackageFileSize: 501.9 KiB