Package: unifiedWMWqPCR Version: 1.36.0 Command: /Library/Frameworks/R.framework/Resources/bin/R CMD check --install=check:unifiedWMWqPCR.install-out.txt --library=/Library/Frameworks/R.framework/Resources/library --no-vignettes --timings unifiedWMWqPCR_1.36.0.tar.gz StartedAt: 2023-10-16 08:23:01 -0400 (Mon, 16 Oct 2023) EndedAt: 2023-10-16 08:24:52 -0400 (Mon, 16 Oct 2023) EllapsedTime: 110.6 seconds RetCode: 0 Status: WARNINGS CheckDir: unifiedWMWqPCR.Rcheck Warnings: 1