Package: unifiedWMWqPCR Version: 1.36.0 Command: /Library/Frameworks/R.framework/Resources/bin/R CMD build --keep-empty-dirs --no-resave-data unifiedWMWqPCR StartedAt: 2023-10-15 22:02:08 -0400 (Sun, 15 Oct 2023) EndedAt: 2023-10-15 22:02:44 -0400 (Sun, 15 Oct 2023) EllapsedTime: 36.2 seconds RetCode: 0 Status: OK PackageFile: unifiedWMWqPCR_1.36.0.tar.gz PackageFileSize: 501.8 KiB