Package: uncoverappLib Version: 1.10.0 Command: /Library/Frameworks/R.framework/Resources/bin/R CMD check --install=check:uncoverappLib.install-out.txt --library=/Library/Frameworks/R.framework/Resources/library --no-vignettes --timings uncoverappLib_1.10.0.tar.gz StartedAt: 2023-10-16 08:22:12 -0400 (Mon, 16 Oct 2023) EndedAt: 2023-10-16 08:37:38 -0400 (Mon, 16 Oct 2023) EllapsedTime: 926.3 seconds RetCode: 0 Status: OK CheckDir: uncoverappLib.Rcheck Warnings: 0