Package: tximport Version: 1.28.0 Command: /home/biocbuild/bbs-3.17-bioc/R/bin/R CMD check --install=check:tximport.install-out.txt --library=/home/biocbuild/bbs-3.17-bioc/R/site-library --timings tximport_1.28.0.tar.gz StartedAt: 2023-10-16 01:58:14 -0400 (Mon, 16 Oct 2023) EndedAt: 2023-10-16 02:00:42 -0400 (Mon, 16 Oct 2023) EllapsedTime: 148.2 seconds RetCode: 0 Status: OK CheckDir: tximport.Rcheck Warnings: 0