Package: tximeta Version: 1.18.3 Command: chmod a+r tximeta -R && F:\biocbuild\bbs-3.17-bioc\R\bin\R.exe CMD build --keep-empty-dirs --no-resave-data tximeta StartedAt: 2023-10-15 22:58:32 -0400 (Sun, 15 Oct 2023) EndedAt: 2023-10-15 23:00:41 -0400 (Sun, 15 Oct 2023) EllapsedTime: 129.1 seconds RetCode: 0 Status: OK PackageFile: tximeta_1.18.3.tar.gz PackageFileSize: 1002 KiB