Package: tximeta Version: 1.18.3 Command: rm -rf tximeta.buildbin-libdir && mkdir tximeta.buildbin-libdir && F:\biocbuild\bbs-3.17-bioc\R\bin\R.exe CMD INSTALL --build --library=tximeta.buildbin-libdir tximeta_1.18.3.tar.gz StartedAt: 2023-10-16 09:41:23 -0400 (Mon, 16 Oct 2023) EndedAt: 2023-10-16 09:42:10 -0400 (Mon, 16 Oct 2023) EllapsedTime: 46.2 seconds RetCode: 0 Status: OK PackageFile: tximeta_1.18.3.zip PackageFileSize: 749.9 KiB