Package: tximeta Version: 1.18.3 Command: /home/biocbuild/bbs-3.17-bioc/R/bin/R CMD INSTALL tximeta StartedAt: 2023-10-15 15:50:50 -0400 (Sun, 15 Oct 2023) EndedAt: 2023-10-15 15:51:28 -0400 (Sun, 15 Oct 2023) EllapsedTime: 37.9 seconds RetCode: 0 Status: OK