Package: tximeta Version: 1.18.3 Command: /home/biocbuild/bbs-3.17-bioc/R/bin/R CMD check --install=check:tximeta.install-out.txt --library=/home/biocbuild/bbs-3.17-bioc/R/site-library --timings tximeta_1.18.3.tar.gz StartedAt: 2023-10-16 01:57:54 -0400 (Mon, 16 Oct 2023) EndedAt: 2023-10-16 02:04:11 -0400 (Mon, 16 Oct 2023) EllapsedTime: 376.5 seconds RetCode: 0 Status: OK CheckDir: tximeta.Rcheck Warnings: 0