Package: twoddpcr Version: 1.24.0 Command: F:\biocbuild\bbs-3.17-bioc\R\bin\R.exe CMD check --no-multiarch --install=check:twoddpcr.install-out.txt --library=F:\biocbuild\bbs-3.17-bioc\R\library --no-vignettes --timings twoddpcr_1.24.0.tar.gz StartedAt: 2023-10-16 07:53:01 -0400 (Mon, 16 Oct 2023) EndedAt: 2023-10-16 07:55:14 -0400 (Mon, 16 Oct 2023) EllapsedTime: 132.5 seconds RetCode: 0 Status: OK CheckDir: twoddpcr.Rcheck Warnings: 0