Package: twoddpcr Version: 1.24.0 Command: chmod a+r twoddpcr -R && F:\biocbuild\bbs-3.17-bioc\R\bin\R.exe CMD build --keep-empty-dirs --no-resave-data twoddpcr StartedAt: 2023-10-15 22:58:15 -0400 (Sun, 15 Oct 2023) EndedAt: 2023-10-15 23:02:56 -0400 (Sun, 15 Oct 2023) EllapsedTime: 280.6 seconds RetCode: 0 Status: OK PackageFile: twoddpcr_1.24.0.tar.gz PackageFileSize: 2.114 MiB