Package: twoddpcr Version: 1.24.0 Command: rm -rf twoddpcr.buildbin-libdir && mkdir twoddpcr.buildbin-libdir && F:\biocbuild\bbs-3.17-bioc\R\bin\R.exe CMD INSTALL --build --library=twoddpcr.buildbin-libdir twoddpcr_1.24.0.tar.gz StartedAt: 2023-10-16 09:41:20 -0400 (Mon, 16 Oct 2023) EndedAt: 2023-10-16 09:41:51 -0400 (Mon, 16 Oct 2023) EllapsedTime: 31.0 seconds RetCode: 0 Status: OK PackageFile: twoddpcr_1.24.0.zip PackageFileSize: 2.937 MiB