Package: twoddpcr Version: 1.24.0 Command: /home/biocbuild/bbs-3.17-bioc/R/bin/R CMD check --install=check:twoddpcr.install-out.txt --library=/home/biocbuild/bbs-3.17-bioc/R/site-library --timings twoddpcr_1.24.0.tar.gz StartedAt: 2023-10-16 01:57:42 -0400 (Mon, 16 Oct 2023) EndedAt: 2023-10-16 02:01:49 -0400 (Mon, 16 Oct 2023) EllapsedTime: 246.8 seconds RetCode: 0 Status: OK CheckDir: twoddpcr.Rcheck Warnings: 0