Package: twoddpcr Version: 1.24.0 Command: /home/biocbuild/bbs-3.17-bioc/R/bin/R CMD build --keep-empty-dirs --no-resave-data twoddpcr StartedAt: 2023-10-15 18:52:32 -0400 (Sun, 15 Oct 2023) EndedAt: 2023-10-15 18:54:56 -0400 (Sun, 15 Oct 2023) EllapsedTime: 144.2 seconds RetCode: 0 Status: OK PackageFile: twoddpcr_1.24.0.tar.gz PackageFileSize: 3.66 MiB