Package: twoddpcr Version: 1.24.0 Command: /Library/Frameworks/R.framework/Resources/bin/R CMD build --keep-empty-dirs --no-resave-data twoddpcr StartedAt: 2023-10-15 22:01:18 -0400 (Sun, 15 Oct 2023) EndedAt: 2023-10-15 22:07:39 -0400 (Sun, 15 Oct 2023) EllapsedTime: 381.1 seconds RetCode: 0 Status: OK PackageFile: twoddpcr_1.24.0.tar.gz PackageFileSize: 3.722 MiB