Package: twoddpcr Version: 1.24.0 Command: rm -rf twoddpcr.buildbin-libdir && mkdir twoddpcr.buildbin-libdir && /Users/biocbuild/BBS/utils/build-universal.sh twoddpcr_1.24.0.tar.gz /Library/Frameworks/R.framework/Resources/bin/R twoddpcr.buildbin-libdir StartedAt: 2023-10-16 10:23:39 -0400 (Mon, 16 Oct 2023) EndedAt: 2023-10-16 10:24:20 -0400 (Mon, 16 Oct 2023) EllapsedTime: 40.8 seconds RetCode: 0 Status: OK PackageFile: twoddpcr_1.24.0.tgz PackageFileSize: 4.537 MiB