Package: twilight Version: 1.76.0 Command: /home/biocbuild/bbs-3.17-bioc/R/bin/R CMD check --install=check:twilight.install-out.txt --library=/home/biocbuild/bbs-3.17-bioc/R/site-library --timings twilight_1.76.0.tar.gz StartedAt: 2023-10-16 01:57:34 -0400 (Mon, 16 Oct 2023) EndedAt: 2023-10-16 02:00:14 -0400 (Mon, 16 Oct 2023) EllapsedTime: 159.5 seconds RetCode: 0 Status: OK CheckDir: twilight.Rcheck Warnings: 0