Package: twilight Version: 1.76.0 Command: rm -rf twilight.buildbin-libdir && mkdir twilight.buildbin-libdir && /Users/biocbuild/BBS/utils/build-universal.sh twilight_1.76.0.tar.gz /Library/Frameworks/R.framework/Resources/bin/R twilight.buildbin-libdir StartedAt: 2023-10-16 10:23:38 -0400 (Mon, 16 Oct 2023) EndedAt: 2023-10-16 10:23:57 -0400 (Mon, 16 Oct 2023) EllapsedTime: 18.6 seconds RetCode: 0 Status: OK PackageFile: twilight_1.76.0.tgz PackageFileSize: 1.222 MiB