Package: tweeDEseq Version: 1.46.2 Command: F:\biocbuild\bbs-3.17-bioc\R\bin\R.exe CMD INSTALL tweeDEseq StartedAt: 2023-10-15 16:47:35 -0400 (Sun, 15 Oct 2023) EndedAt: 2023-10-15 16:47:47 -0400 (Sun, 15 Oct 2023) EllapsedTime: 11.9 seconds RetCode: 0 Status: OK