Package: tweeDEseq Version: 1.46.2 Command: rm -rf tweeDEseq.buildbin-libdir && mkdir tweeDEseq.buildbin-libdir && F:\biocbuild\bbs-3.17-bioc\R\bin\R.exe CMD INSTALL --build --library=tweeDEseq.buildbin-libdir tweeDEseq_1.46.2.tar.gz StartedAt: 2023-10-16 09:41:16 -0400 (Mon, 16 Oct 2023) EndedAt: 2023-10-16 09:41:26 -0400 (Mon, 16 Oct 2023) EllapsedTime: 9.9 seconds RetCode: 0 Status: OK PackageFile: tweeDEseq_1.46.2.zip PackageFileSize: 359 KiB