Package: tweeDEseq Version: 1.46.2 Command: /Library/Frameworks/R.framework/Resources/bin/R CMD check --install=check:tweeDEseq.install-out.txt --library=/Library/Frameworks/R.framework/Resources/library --no-vignettes --timings tweeDEseq_1.46.2.tar.gz StartedAt: 2023-10-16 08:20:21 -0400 (Mon, 16 Oct 2023) EndedAt: 2023-10-16 08:22:12 -0400 (Mon, 16 Oct 2023) EllapsedTime: 111.0 seconds RetCode: 0 Status: WARNINGS CheckDir: tweeDEseq.Rcheck Warnings: 1