Package: tweeDEseq Version: 1.46.2 Command: /Library/Frameworks/R.framework/Resources/bin/R CMD build --keep-empty-dirs --no-resave-data tweeDEseq StartedAt: 2023-10-15 22:01:02 -0400 (Sun, 15 Oct 2023) EndedAt: 2023-10-15 22:15:08 -0400 (Sun, 15 Oct 2023) EllapsedTime: 845.9 seconds RetCode: 0 Status: OK PackageFile: tweeDEseq_1.46.2.tar.gz PackageFileSize: 233.3 KiB