Package: tscR Version: 1.12.0 Command: F:\biocbuild\bbs-3.17-bioc\R\bin\R.exe CMD INSTALL tscR StartedAt: 2023-10-15 17:08:08 -0400 (Sun, 15 Oct 2023) EndedAt: 2023-10-15 17:08:09 -0400 (Sun, 15 Oct 2023) EllapsedTime: 0.4 seconds RetCode: 1 Status: ERROR