Package: tscR Version: 1.11.0 Command: F:\biocbuild\bbs-3.17-bioc\R\bin\R.exe CMD check --no-multiarch --install=check:tscR.install-out.txt --library=F:\biocbuild\bbs-3.17-bioc\R\library --no-vignettes --timings tscR_1.11.0.tar.gz StartedAt: 2023-01-10 07:39:38 -0500 (Tue, 10 Jan 2023) EndedAt: 2023-01-10 07:42:25 -0500 (Tue, 10 Jan 2023) EllapsedTime: 166.8 seconds RetCode: 0 Status: OK CheckDir: tscR.Rcheck Warnings: 0