Package: tscR Version: 1.12.0 Command: chmod a+r tscR -R && F:\biocbuild\bbs-3.17-bioc\R\bin\R.exe CMD build --keep-empty-dirs --no-resave-data tscR StartedAt: 2023-10-15 22:57:32 -0400 (Sun, 15 Oct 2023) EndedAt: 2023-10-15 22:57:34 -0400 (Sun, 15 Oct 2023) EllapsedTime: 2.0 seconds RetCode: 1 Status: ERROR PackageFile: None PackageFileSize: NA