Package: tscR Version: 1.11.0 Command: /home/biocbuild/bbs-3.17-bioc/R/bin/R CMD check --install=check:tscR.install-out.txt --library=/home/biocbuild/bbs-3.17-bioc/R/library --timings tscR_1.11.0.tar.gz StartedAt: 2023-01-10 00:38:42 -0500 (Tue, 10 Jan 2023) EndedAt: 2023-01-10 00:41:31 -0500 (Tue, 10 Jan 2023) EllapsedTime: 168.8 seconds RetCode: 0 Status: OK CheckDir: tscR.Rcheck Warnings: 0