Package: tscR Version: 1.11.0 Command: /Library/Frameworks/R.framework/Resources/bin/R CMD check --install=check:tscR.install-out.txt --library=/Library/Frameworks/R.framework/Resources/library --no-vignettes --timings tscR_1.11.0.tar.gz StartedAt: 2023-01-10 08:38:17 -0500 (Tue, 10 Jan 2023) EndedAt: 2023-01-10 08:48:17 -0500 (Tue, 10 Jan 2023) EllapsedTime: 599.9 seconds RetCode: 0 Status: OK CheckDir: tscR.Rcheck Warnings: 0