Package: tripr Version: 1.6.0 Command: chmod a+r tripr -R && F:\biocbuild\bbs-3.17-bioc\R\bin\R.exe CMD build --keep-empty-dirs --no-resave-data tripr StartedAt: 2023-10-15 22:56:50 -0400 (Sun, 15 Oct 2023) EndedAt: 2023-10-15 22:57:27 -0400 (Sun, 15 Oct 2023) EllapsedTime: 37.0 seconds RetCode: 0 Status: OK PackageFile: tripr_1.6.0.tar.gz PackageFileSize: 2.928 MiB