Package: tripr Version: 1.6.0 Command: rm -rf tripr.buildbin-libdir && mkdir tripr.buildbin-libdir && F:\biocbuild\bbs-3.17-bioc\R\bin\R.exe CMD INSTALL --build --library=tripr.buildbin-libdir tripr_1.6.0.tar.gz StartedAt: 2023-10-16 09:40:51 -0400 (Mon, 16 Oct 2023) EndedAt: 2023-10-16 09:41:22 -0400 (Mon, 16 Oct 2023) EllapsedTime: 30.5 seconds RetCode: 0 Status: OK PackageFile: tripr_1.6.0.zip PackageFileSize: 3.985 MiB