Package: tripr Version: 1.6.0 Command: /home/biocbuild/bbs-3.17-bioc/R/bin/R CMD check --install=check:tripr.install-out.txt --library=/home/biocbuild/bbs-3.17-bioc/R/site-library --timings tripr_1.6.0.tar.gz StartedAt: 2023-10-16 01:54:47 -0400 (Mon, 16 Oct 2023) EndedAt: 2023-10-16 01:56:12 -0400 (Mon, 16 Oct 2023) EllapsedTime: 85.0 seconds RetCode: 0 Status: OK CheckDir: tripr.Rcheck Warnings: 0