Package: triplex Version: 1.40.0 Command: F:\biocbuild\bbs-3.17-bioc\R\bin\R.exe CMD INSTALL triplex StartedAt: 2023-10-15 15:55:51 -0400 (Sun, 15 Oct 2023) EndedAt: 2023-10-15 15:56:21 -0400 (Sun, 15 Oct 2023) EllapsedTime: 29.7 seconds RetCode: 0 Status: OK