Package: triplex Version: 1.40.0 Command: F:\biocbuild\bbs-3.17-bioc\R\bin\R.exe CMD check --no-multiarch --install=check:triplex.install-out.txt --library=F:\biocbuild\bbs-3.17-bioc\R\library --no-vignettes --timings triplex_1.40.0.tar.gz StartedAt: 2023-10-16 07:50:45 -0400 (Mon, 16 Oct 2023) EndedAt: 2023-10-16 07:52:14 -0400 (Mon, 16 Oct 2023) EllapsedTime: 88.9 seconds RetCode: 0 Status: WARNINGS CheckDir: triplex.Rcheck Warnings: 2