Package: triplex Version: 1.40.0 Command: chmod a+r triplex -R && F:\biocbuild\bbs-3.17-bioc\R\bin\R.exe CMD build --keep-empty-dirs --no-resave-data triplex StartedAt: 2023-10-15 22:56:36 -0400 (Sun, 15 Oct 2023) EndedAt: 2023-10-15 22:57:18 -0400 (Sun, 15 Oct 2023) EllapsedTime: 41.9 seconds RetCode: 0 Status: OK PackageFile: triplex_1.40.0.tar.gz PackageFileSize: 481.9 KiB