Package: triplex Version: 1.40.0 Command: rm -rf triplex.buildbin-libdir && mkdir triplex.buildbin-libdir && F:\biocbuild\bbs-3.17-bioc\R\bin\R.exe CMD INSTALL --build --library=triplex.buildbin-libdir triplex_1.40.0.tar.gz StartedAt: 2023-10-16 09:40:50 -0400 (Mon, 16 Oct 2023) EndedAt: 2023-10-16 09:41:18 -0400 (Mon, 16 Oct 2023) EllapsedTime: 28.4 seconds RetCode: 0 Status: OK PackageFile: triplex_1.40.0.zip PackageFileSize: 824.8 KiB