Package: triplex Version: 1.40.0 Command: /home/biocbuild/bbs-3.17-bioc/R/bin/R CMD INSTALL triplex StartedAt: 2023-10-15 15:11:11 -0400 (Sun, 15 Oct 2023) EndedAt: 2023-10-15 15:11:27 -0400 (Sun, 15 Oct 2023) EllapsedTime: 15.8 seconds RetCode: 0 Status: OK