Package: triplex Version: 1.40.0 Command: /home/biocbuild/bbs-3.17-bioc/R/bin/R CMD build --keep-empty-dirs --no-resave-data triplex StartedAt: 2023-10-15 18:51:33 -0400 (Sun, 15 Oct 2023) EndedAt: 2023-10-15 18:52:03 -0400 (Sun, 15 Oct 2023) EllapsedTime: 29.9 seconds RetCode: 0 Status: OK PackageFile: triplex_1.40.0.tar.gz PackageFileSize: 478.9 KiB