Package: triplex Version: 1.40.0 Command: /Library/Frameworks/R.framework/Resources/bin/R CMD INSTALL triplex StartedAt: 2023-10-15 15:11:58 -0400 (Sun, 15 Oct 2023) EndedAt: 2023-10-15 15:13:03 -0400 (Sun, 15 Oct 2023) EllapsedTime: 64.5 seconds RetCode: 0 Status: OK