Package: triplex Version: 1.40.0 Command: /Library/Frameworks/R.framework/Resources/bin/R CMD check --install=check:triplex.install-out.txt --library=/Library/Frameworks/R.framework/Resources/library --no-vignettes --timings triplex_1.40.0.tar.gz StartedAt: 2023-10-16 08:15:59 -0400 (Mon, 16 Oct 2023) EndedAt: 2023-10-16 08:20:21 -0400 (Mon, 16 Oct 2023) EllapsedTime: 261.4 seconds RetCode: 0 Status: WARNINGS CheckDir: triplex.Rcheck Warnings: 2