Package: triplex Version: 1.40.0 Command: rm -rf triplex.buildbin-libdir && mkdir triplex.buildbin-libdir && /Users/biocbuild/BBS/utils/build-universal.sh triplex_1.40.0.tar.gz /Library/Frameworks/R.framework/Resources/bin/R triplex.buildbin-libdir StartedAt: 2023-10-16 10:23:07 -0400 (Mon, 16 Oct 2023) EndedAt: 2023-10-16 10:24:03 -0400 (Mon, 16 Oct 2023) EllapsedTime: 56.4 seconds RetCode: 0 Status: OK PackageFile: triplex_1.40.0.tgz PackageFileSize: 943.5 KiB