Package: trio Version: 3.38.0 Command: /Library/Frameworks/R.framework/Resources/bin/R CMD INSTALL trio StartedAt: 2023-10-15 16:08:16 -0400 (Sun, 15 Oct 2023) EndedAt: 2023-10-15 16:09:45 -0400 (Sun, 15 Oct 2023) EllapsedTime: 89.0 seconds RetCode: 0 Status: OK