Package: trio Version: 3.38.0 Command: /Library/Frameworks/R.framework/Resources/bin/R CMD build --keep-empty-dirs --no-resave-data trio StartedAt: 2023-10-15 21:59:07 -0400 (Sun, 15 Oct 2023) EndedAt: 2023-10-15 22:01:31 -0400 (Sun, 15 Oct 2023) EllapsedTime: 144.1 seconds RetCode: 0 Status: OK PackageFile: trio_3.38.0.tar.gz PackageFileSize: 747.9 KiB