Package: trena Version: 1.22.2 Command: F:\biocbuild\bbs-3.17-bioc\R\bin\R.exe CMD check --no-multiarch --install=check:trena.install-out.txt --library=F:\biocbuild\bbs-3.17-bioc\R\library --no-vignettes --timings trena_1.22.2.tar.gz StartedAt: 2023-10-16 07:48:55 -0400 (Mon, 16 Oct 2023) EndedAt: 2023-10-16 07:59:21 -0400 (Mon, 16 Oct 2023) EllapsedTime: 626.4 seconds RetCode: 0 Status: WARNINGS CheckDir: trena.Rcheck Warnings: 4