Package: trena Version: 1.22.2 Command: rm -rf trena.buildbin-libdir && mkdir trena.buildbin-libdir && F:\biocbuild\bbs-3.17-bioc\R\bin\R.exe CMD INSTALL --build --library=trena.buildbin-libdir trena_1.22.2.tar.gz StartedAt: 2023-10-16 09:40:40 -0400 (Mon, 16 Oct 2023) EndedAt: 2023-10-16 09:41:56 -0400 (Mon, 16 Oct 2023) EllapsedTime: 76.3 seconds RetCode: 0 Status: OK PackageFile: trena_1.22.2.zip PackageFileSize: 2.743 MiB